Workbook

Sheet 顧客獲得概要
A1: 項目 | B1: 値
A2: 受注目標
A3: 受注率
A4: 商談数 | B4: =B2/B3 -> #DIV/0!
A6: マーケティング費用 （単位：千円）
A7: 項目 | B7: 値
A8: マーケティング費用 | B8: =B9+B10 -> 0
A9: 販促費
A10: その他費用
A11: 商談獲得単価 | B11: =B8/B4 -> #DIV/0!
A12: 顧客獲得単価 | B12: =B8/B2 -> #DIV/0!
A15: 人件費 （単位：千円）
A16: 項目 | B16: 値
A17: 人件費 | B17: =0*2*12 -> 0 | C17: 例） 500千円 × 2人 × 12ヶ月
A19: 費用合計 （単位：千円）
A20: 項目 | B20: 値
A21: 費用合計 | B21: =B17+B8 -> 0
A22: 商談獲得単価 | B22: =B21/B4 -> #DIV/0!
A23: 顧客獲得単価 | B23: =B21/B2 -> #DIV/0!

Sheet 顧客獲得カレンダー
B1: 44562 | C1: 44593 | D1: 44621 | E1: 44652 | F1: 44682 | G1: 44713 | H1: 44743 | I1: 44774 | J1: 44805 | K1: 44835 | L1: 44866 | M1: 44896 | N1: 合計
A2: 受注件数 | N2: =SUM(B2:M2) -> 0
A3: 受注率 | B3: =B2/B4 -> #DIV/0! | C3: =C2/C4 -> #DIV/0! | D3: =D2/D4 -> #DIV/0! | E3: =E2/E4 -> #DIV/0! | F3: =F2/F4 -> #DIV/0! | G3: =G2/G4 -> #DIV/0! | H3: =H2/H4 -> #DIV/0! | I3: =I2/I4 -> #DIV/0! | ... N3: =N2/N4 -> #DIV/0!
A4: 商談件数 | N4: =SUM(B4:M4) -> 0

Sheet 施策概要 
A1: カテゴリ | B1: 項目 | C1: リード獲得 | D1: 商談化率 | E1: 商談数 | F1: 費用 | G1: 商談獲得単価 | H1: リード獲得単価 | J1: 単位：円
A2: 定常 | B2: 資料請求（広告） | E2: =C2*D2 -> 0 | F2: =C2*H2 -> 0 | G2: =F2/E2 -> #DIV/0!
A3: 定常 | B3: 資料請求(ウェブ） | E3: =C3*D3 -> 0 | F3: 0 | G3: =F3/E3 -> #DIV/0! | H3: =F3/C3 -> #DIV/0!
A4: 定常 | B4: ホワイトペーパー（広告） | E4: =C4*D4 -> 0 | F4: =C4*H4 -> 0 | G4: =F4/E4 -> #DIV/0!
A5: 定常 | B5: ホワイトペーパー (ウェブ） | E5: =C5*D5 -> 0 | F5: 0 | G5: =F5/E5 -> #DIV/0! | H5: =F5/C5 -> #DIV/0!
A6: スポット | B6: 展示会 | E6: =C6*D6 -> 0 | F6: 0 | G6: =F6/E6 -> #DIV/0! | H6: =F6/C6 -> #DIV/0!
A7: スポット | B7: その他イベント | E7: =C7*D7 -> 0 | F7: 0 | G7: =F7/E7 -> #DIV/0! | H7: =F7/C7 -> #DIV/0!
A8: スポット | B8: 製品セミナー | E8: =C8*D8 -> 0 | F8: 0 | G8: =F8/E8 -> #DIV/0! | H8: =F8/C8 -> #DIV/0!
A9: スポット | B9: 関心セミナー | E9: =C9*D9 -> 0 | F9: 0 | G9: =F9/E9 -> #DIV/0! | H9: =F9/C9 -> #DIV/0!
B10: 販促費のみ合計 | C10: =SUM(C2:C9) -> 0 | E10: =SUM(E2:E9) -> 0 | F10: =SUM(F2:F9) -> 0 | G10: =F10/E10 -> #DIV/0! | H10: =F10/C10 -> #DIV/0!
B11: その他販促費込 | F11: =顧客獲得概要!B10*1000+SUM(F2:F9) -> 0 | G11: =F11/E10 -> #DIV/0! | H11: =F11/C10 -> #DIV/0!
D13: 目標数 | E13: =顧客獲得概要!B4 -> #DIV/0! | F13: =顧客獲得概要!B8*1000 -> 0
D14: 差分 | E14: =E10-E13 -> #DIV/0! | F14: =F11-F13 -> 0

Sheet 明細表
A1: 展示会合計 | B1: リード獲得数 | C1: =D12+D23+D34 -> 0
B2: 商談化率 | C2: =C3/C1 -> #DIV/0!
B3: 商談数 | C3: =F12+F23+F34 -> 0
B4: 費用合計 | C4: =F14+F25+F36 -> 0
B5: 商談獲得単価 | C5: =C4/C3 -> #DIV/0!
B6: リード獲得単価 | C6: =C4/C1 -> #DIV/0!
A8: 展示会名 | B8: 確度 | C8: 比率 | D8: 獲得件数 | E8: 商談化率 | F8: 商談数
A9: 展示会① | B9: ホット | C9: =D9/$D$12 -> #DIV/0! | F9: =D9*E9 -> 0
B10: ウォーム | C10: =D10/$D$12 -> #DIV/0! | F10: =D10*E10 -> 0
B11: コールド | C11: =D11/$D$12 -> #DIV/0! | F11: =D11*E11 -> 0
B12: 合計 | D12: =SUM(D9:D11) -> 0 | F12: =SUM(F9:F11) -> 0
E14: 費用合計 | F14: 0
E15: 商談獲得単価 | F15: =F14/F12 -> #DIV/0!
E16: リード獲得単価 | F16: =F14/D12 -> #DIV/0!
A19: 展示会名 | B19: 確度 | C19: 比率 | D19: 獲得件数 | E19: 商談化率 | F19: 商談数
A20: 展示会② | B20: ホット | C20: =D20/$D$12 -> #DIV/0! | F20: =D20*E20 -> 0
B21: ウォーム | C21: =D21/$D$12 -> #DIV/0! | F21: =D21*E21 -> 0
B22: コールド | C22: =D22/$D$12 -> #DIV/0! | F22: =D22*E22 -> 0
B23: 合計 | D23: =SUM(D20:D22) -> 0 | F23: =SUM(F20:F22) -> 0
E25: 費用合計 | F25: 0
E26: 商談獲得単価 | F26: =F25/F23 -> #DIV/0!
E27: リード獲得単価 | F27: =F25/D23 -> #DIV/0!
A30: 展示会名 | B30: 確度 | C30: 比率 | D30: 獲得件数 | E30: 商談化率 | F30: 商談数
A31: 展示会③ | B31: ホット | C31: =D31/$D$12 -> #DIV/0! | F31: =D31*E31 -> 0
B32: ウォーム | C32: =D32/$D$12 -> #DIV/0! | F32: =D32*E32 -> 0
B33: コールド | C33: =D33/$D$12 -> #DIV/0! | F33: =D33*E33 -> 0
B34: 合計 | D34: =SUM(D31:D33) -> 0 | F34: =SUM(F31:F33) -> 0
E36: 費用合計 | F36: 0
E37: 商談獲得単価 | F37: =F36/F34 -> #DIV/0!
E38: リード獲得単価 | F38: =F36/D34 -> #DIV/0!

Sheet 施策カレンダー
B1: 44562 | C1: 44593 | D1: 44621 | E1: 44652 | F1: 44682 | G1: 44713 | H1: 44743 | I1: 44774 | J1: 44805 | K1: 44835 | L1: 44866 | M1: 44896 | N1: 合計
A2: 資料請求（広告） | N2: =SUM(B2:M2) -> 0
A3: 資料請求(ウェブ） | N3: =SUM(B3:M3) -> 0
A4: ホワイトペーパー（広告） | N4: =SUM(B4:M4) -> 0
A5: ホワイトペーパー（ウェブ） | N5: =SUM(B5:M5) -> 0
A6: 展示会 | N6: =SUM(B6:M6) -> 0
A7: その他イベント | N7: =SUM(B7:M7) -> 0
A8: 製品セミナー | N8: =SUM(B8:M8) -> 0
A9: 関心セミナー | N9: =SUM(B9:M9) -> 0
A10: 合計 | B10: =SUM(B2:B9) -> 0 | C10: =SUM(C2:C9) -> 0 | D10: =SUM(D2:D9) -> 0 | E10: =SUM(E2:E9) -> 0 | F10: =SUM(F2:F9) -> 0 | G10: =SUM(G2:G9) -> 0 | H10: =SUM(H2:H9) -> 0 | I10: =SUM(I2:I9) -> 0 | ... M10: =SUM(M2:M9) -> 0 | N10: =SUM(B10:M10) -> 0
A12: 必要商談数 | B12: =顧客獲得カレンダー!B4 -> 0 | C12: =顧客獲得カレンダー!C4 -> 0 | D12: =顧客獲得カレンダー!D4 -> 0 | E12: =顧客獲得カレンダー!E4 -> 0 | F12: =顧客獲得カレンダー!F4 -> 0 | G12: =顧客獲得カレンダー!G4 -> 0 | H12: =顧客獲得カレンダー!H4 -> 0 | I12: =顧客獲得カレンダー!I4 -> 0 | ... M12: =顧客獲得カレンダー!M4 -> 0 | N12: =SUM(B12:M12) -> 0

Sheet 資料請求（広告）
A1: 項目 | B1: 44562 | C1: 44593 | D1: 44621 | E1: 44652 | F1: 44682 | G1: 44713 | H1: 44743 | I1: 44774 | J1: 44805 | K1: 44835 | L1: 44866 | M1: 44896 | N1: 合計
A2: リード獲得数 | N2: =SUM(B2:M2) -> 0
A3: CPA
A4: 広告費 | B4: =B2*B3 -> 0 | C4: =C2*C3 -> 0 | D4: =D2*D3 -> 0 | E4: =E2*E3 -> 0 | F4: =F2*F3 -> 0 | G4: =G2*G3 -> 0 | H4: =H2*H3 -> 0 | I4: =I2*I3 -> 0 | ... M4: =M2*M3 -> 0 | N4: =SUM(B4:M4) -> 0
A5: 商談化率 | O5: ※ ビュースルー除く
A6: 商談数 | B6: =B2*B5 -> 0 | C6: =C2*C5 -> 0 | D6: =D2*D5 -> 0 | E6: =E2*E5 -> 0 | F6: =F2*F5 -> 0 | G6: =G2*G5 -> 0 | H6: =H2*H5 -> 0 | I6: =I2*I5 -> 0 | ... M6: =M2*M5 -> 0 | N6: =SUM(B6:M6) -> 0 | O6: ※ ビュースルー除く

Sheet 資料請求（ウェブ）
A1: 項目 | B1: 44562 | C1: 44593 | D1: 44621 | E1: 44652 | F1: 44682 | G1: 44713 | H1: 44743 | I1: 44774 | J1: 44805 | K1: 44835 | L1: 44866 | M1: 44896 | N1: 合計
A2: 検索アクセス数 | N2: =SUM(B2:M2) -> 0
A3: CVR
A4: リード獲得数 | B4: =B2*B3 -> 0 | C4: =C2*C3 -> 0 | D4: =D2*D3 -> 0 | E4: =E2*E3 -> 0 | F4: =F2*F3 -> 0 | G4: =G2*G3 -> 0 | H4: =H2*H3 -> 0 | I4: =I2*I3 -> 0 | ... M4: =M2*M3 -> 0 | N4: =SUM(B4:M4) -> 0
A5: 商談化率
A6: 商談数 | B6: =ROUND(B4*B5,0) -> 0 | C6: =ROUND(C4*C5,0) -> 0 | D6: =ROUND(D4*D5,0) -> 0 | E6: =ROUND(E4*E5,0) -> 0 | F6: =ROUND(F4*F5,0) -> 0 | G6: =ROUND(G4*G5,0) -> 0 | H6: =ROUND(H4*H5,0) -> 0 | I6: =ROUND(I4*I5,0) -> 0 | ... M6: =ROUND(M4*M5,0) -> 0 | N6: =SUM(B6:M6) -> 0

Sheet 製品ウェビナー例
A1: 項目 | B1: 44562 | C1: 44593 | D1: 44621 | E1: 44652 | F1: 44682 | G1: 44713 | H1: 44743 | I1: 44774 | J1: 44805 | K1: 44835 | L1: 44866 | M1: 44896 | N1: 合計
A2: 申し込み | N2: =SUM(B2:M2) -> 0
A3: 視聴率
A4: 視聴数 | B4: =B2*B3 -> 0 | C4: =C2*C3 -> 0 | D4: =D2*D3 -> 0 | E4: =E2*E3 -> 0 | F4: =F2*F3 -> 0 | G4: =G2*G3 -> 0 | H4: =H2*H3 -> 0 | I4: =I2*I3 -> 0 | ... M4: =M2*M3 -> 0 | N4: =SUM(B4:M4) -> 0
A5: ターゲット率
A6: ターゲット数 | B6: =B5*B2 -> 0 | C6: =C5*C2 -> 0 | D6: =D5*D2 -> 0 | E6: =E5*E2 -> 0 | F6: =F5*F2 -> 0 | G6: =G5*G2 -> 0 | H6: =H5*H2 -> 0 | I6: =I5*I2 -> 0 | ... M6: =M5*M2 -> 0 | N6: =SUM(B6:M6) -> 0
A7: 商談化率
A8: 商談数 | B8: =ROUND(B6*B7,0) -> 0 | C8: =ROUND(C6*C7,0) -> 0 | D8: =ROUND(D6*D7,0) -> 0 | E8: =ROUND(E6*E7,0) -> 0 | F8: =ROUND(F6*F7,0) -> 0 | G8: =ROUND(G6*G7,0) -> 0 | H8: =ROUND(H6*H7,0) -> 0 | I8: =ROUND(I6*I7,0) -> 0 | ... M8: =ROUND(M6*M7,0) -> 0 | N8: =SUM(B8:M8) -> 0

Sheet 関心ウェビナー例
A1: 項目 | B1: 44562 | C1: 44593 | D1: 44621 | E1: 44652 | F1: 44682 | G1: 44713 | H1: 44743 | I1: 44774 | J1: 44805 | K1: 44835 | L1: 44866 | M1: 44896 | N1: 合計
A2: 申し込み | N2: =SUM(B2:M2) -> 0
A3: 視聴率
A4: 視聴数 | B4: =B2*B3 -> 0 | C4: =C2*C3 -> 0 | D4: =D2*D3 -> 0 | E4: =E2*E3 -> 0 | F4: =F2*F3 -> 0 | G4: =G2*G3 -> 0 | H4: =H2*H3 -> 0 | I4: =I2*I3 -> 0 | ... M4: =M2*M3 -> 0 | N4: =SUM(B4:M4) -> 0
A5: ターゲット率
A6: ターゲット数 | B6: =B5*B2 -> 0 | C6: =C5*C2 -> 0 | D6: =D5*D2 -> 0 | E6: =E5*E2 -> 0 | F6: =F5*F2 -> 0 | G6: =G5*G2 -> 0 | H6: =H5*H2 -> 0 | I6: =I5*I2 -> 0 | ... M6: =M5*M2 -> 0 | N6: =SUM(B6:M6) -> 0
A7: 商談化率
A8: 商談数 | B8: =ROUND(B6*B7,0) -> 0 | C8: =ROUND(C6*C7,0) -> 0 | D8: =ROUND(D6*D7,0) -> 0 | E8: =ROUND(E6*E7,0) -> 0 | F8: =ROUND(F6*F7,0) -> 0 | G8: =ROUND(G6*G7,0) -> 0 | H8: =ROUND(H6*H7,0) -> 0 | I8: =ROUND(I6*I7,0) -> 0 | ... M8: =ROUND(M6*M7,0) -> 0 | N8: =SUM(B8:M8) -> 0

Sheet 施策カレンダー (振り返り）
A1: 予定 | B1: 44562 | C1: 44593 | D1: 44621 | E1: 44652 | F1: 44682 | G1: 44713 | H1: 44743 | I1: 44774 | J1: 44805 | K1: 44835 | L1: 44866 | M1: 44896 | N1: 合計
A2: 資料請求（広告） | B2: =施策カレンダー!B2 -> 0 | C2: =施策カレンダー!C2 -> 0 | D2: =施策カレンダー!D2 -> 0 | E2: =施策カレンダー!E2 -> 0 | F2: =施策カレンダー!F2 -> 0 | G2: =施策カレンダー!G2 -> 0 | H2: =施策カレンダー!H2 -> 0 | I2: =施策カレンダー!I2 -> 0 | ... M2: =施策カレンダー!M2 -> 0 | N2: =SUM(B2:M2) -> 0
A3: 資料請求(その他） | B3: =施策カレンダー!B3 -> 0 | C3: =施策カレンダー!C3 -> 0 | D3: =施策カレンダー!D3 -> 0 | E3: =施策カレンダー!E3 -> 0 | F3: =施策カレンダー!F3 -> 0 | G3: =施策カレンダー!G3 -> 0 | H3: =施策カレンダー!H3 -> 0 | I3: =施策カレンダー!I3 -> 0 | ... M3: =施策カレンダー!M3 -> 0 | N3: =SUM(B3:M3) -> 0
A4: ホワイトペーパー（広告） | B4: =施策カレンダー!B4 -> 0 | C4: =施策カレンダー!C4 -> 0 | D4: =施策カレンダー!D4 -> 0 | E4: =施策カレンダー!E4 -> 0 | F4: =施策カレンダー!F4 -> 0 | G4: =施策カレンダー!G4 -> 0 | H4: =施策カレンダー!H4 -> 0 | I4: =施策カレンダー!I4 -> 0 | ... M4: =施策カレンダー!M4 -> 0 | N4: =SUM(B4:M4) -> 0
A5: ホワイトペーパー（その他） | B5: =施策カレンダー!B5 -> 0 | C5: =施策カレンダー!C5 -> 0 | D5: =施策カレンダー!D5 -> 0 | E5: =施策カレンダー!E5 -> 0 | F5: =施策カレンダー!F5 -> 0 | G5: =施策カレンダー!G5 -> 0 | H5: =施策カレンダー!H5 -> 0 | I5: =施策カレンダー!I5 -> 0 | ... M5: =施策カレンダー!M5 -> 0 | N5: =SUM(B5:M5) -> 0
A6: 展示会 | B6: =施策カレンダー!B6 -> 0 | C6: =施策カレンダー!C6 -> 0 | D6: =施策カレンダー!D6 -> 0 | E6: =施策カレンダー!E6 -> 0 | F6: =施策カレンダー!F6 -> 0 | G6: =施策カレンダー!G6 -> 0 | H6: =施策カレンダー!H6 -> 0 | I6: =施策カレンダー!I6 -> 0 | ... M6: =施策カレンダー!M6 -> 0 | N6: =SUM(B6:M6) -> 0
A7: その他イベント | B7: =施策カレンダー!B7 -> 0 | C7: =施策カレンダー!C7 -> 0 | D7: =施策カレンダー!D7 -> 0 | E7: =施策カレンダー!E7 -> 0 | F7: =施策カレンダー!F7 -> 0 | G7: =施策カレンダー!G7 -> 0 | H7: =施策カレンダー!H7 -> 0 | I7: =施策カレンダー!I7 -> 0 | ... M7: =施策カレンダー!M7 -> 0 | N7: =SUM(B7:M7) -> 0
A8: 製品セミナー | B8: =施策カレンダー!B8 -> 0 | C8: =施策カレンダー!C8 -> 0 | D8: =施策カレンダー!D8 -> 0 | E8: =施策カレンダー!E8 -> 0 | F8: =施策カレンダー!F8 -> 0 | G8: =施策カレンダー!G8 -> 0 | H8: =施策カレンダー!H8 -> 0 | I8: =施策カレンダー!I8 -> 0 | ... M8: =施策カレンダー!M8 -> 0 | N8: =SUM(B8:M8) -> 0
A9: 関心セミナー | B9: =施策カレンダー!B9 -> 0 | C9: =施策カレンダー!C9 -> 0 | D9: =施策カレンダー!D9 -> 0 | E9: =施策カレンダー!E9 -> 0 | F9: =施策カレンダー!F9 -> 0 | G9: =施策カレンダー!G9 -> 0 | H9: =施策カレンダー!H9 -> 0 | I9: =施策カレンダー!I9 -> 0 | ... M9: =施策カレンダー!M9 -> 0 | N9: =SUM(B9:M9) -> 0
A10: 合計 | B10: =SUM(B2:B9) -> 0 | C10: =SUM(C2:C9) -> 0 | D10: =SUM(D2:D9) -> 0 | E10: =SUM(E2:E9) -> 0 | F10: =SUM(F2:F9) -> 0 | G10: =SUM(G2:G9) -> 0 | H10: =SUM(H2:H9) -> 0 | I10: =SUM(I2:I9) -> 0 | ... M10: =SUM(M2:M9) -> 0 | N10: =SUM(B10:M10) -> 0
A12: 実績 | B12: 44562 | C12: 44593 | D12: 44621 | E12: 44652 | F12: 44682 | G12: 44713 | H12: 44743 | I12: 44774 | J12: 44805 | K12: 44835 | L12: 44866 | M12: 44896 | N12: 合計
A13: 資料請求（広告） | N13: =SUM(B13:M13) -> 0
A14: 資料請求(その他） | N14: =SUM(B14:M14) -> 0
A15: ホワイトペーパー（広告） | N15: =SUM(B15:M15) -> 0
A16: ホワイトペーパー（その他） | N16: =SUM(B16:M16) -> 0
A17: 展示会 | N17: =SUM(B17:M17) -> 0
A18: その他イベント | N18: =SUM(B18:M18) -> 0
A19: 製品セミナー | N19: =SUM(B19:M19) -> 0
A20: 関心セミナー | N20: =SUM(B20:M20) -> 0
A21: 合計 | B21: =SUM(B13:B20) -> 0 | C21: =SUM(C13:C20) -> 0 | D21: =SUM(D13:D20) -> 0 | E21: =SUM(E13:E20) -> 0 | F21: =SUM(F13:F20) -> 0 | G21: =SUM(G13:G20) -> 0 | H21: =SUM(H13:H20) -> 0 | I21: =SUM(I13:I20) -> 0 | ... M21: =SUM(M13:M20) -> 0 | N21: =SUM(B21:M21) -> 0
A23: 予実 | B23: 44562 | C23: 44593 | D23: 44621 | E23: 44652 | F23: 44682 | G23: 44713 | H23: 44743 | I23: 44774 | J23: 44805 | K23: 44835 | L23: 44866 | M23: 44896 | N23: 合計
A24: 資料請求（広告） | B24: =B13-B2 -> 0 | N24: =SUM(B24:M24) -> 0
A25: 資料請求(その他） | B25: =B14-B3 -> 0 | N25: =SUM(B25:M25) -> 0
A26: ホワイトペーパー（広告） | B26: =B15-B4 -> 0 | N26: =SUM(B26:M26) -> 0
A27: ホワイトペーパー（その他） | B27: =B16-B5 -> 0 | N27: =SUM(B27:M27) -> 0
A28: 展示会 | B28: =B17-B6 -> 0 | N28: =SUM(B28:M28) -> 0
A29: その他イベント | B29: =B18-B7 -> 0 | N29: =SUM(B29:M29) -> 0
A30: 製品セミナー | B30: =B19-B8 -> 0 | N30: =SUM(B30:M30) -> 0
A31: 関心セミナー | B31: =B20-B9 -> 0 | N31: =SUM(B31:M31) -> 0
A32: 合計 | B32: =SUM(B24:B31) -> 0 | C32: =SUM(C24:C31) -> 0 | D32: =SUM(D24:D31) -> 0 | E32: =SUM(E24:E31) -> 0 | F32: =SUM(F24:F31) -> 0 | G32: =SUM(G24:G31) -> 0 | H32: =SUM(H24:H31) -> 0 | I32: =SUM(I24:I31) -> 0 | ... M32: =SUM(M24:M31) -> 0 | N32: =SUM(B32:M32) -> 0

Sheet 【サンプル数値入り】顧客獲得概要
A1: 項目 | B1: 値
A2: 受注目標 | B2: 30
A3: 受注率 | B3: 0.15
A4: 商談数 | B4: =B2/B3 -> 200
A6: マーケティング費用 （単位：千円）
A7: 項目 | B7: 値
A8: マーケティング費用 | B8: =B9+B10 -> 20000
A9: 販促費 | B9: 15000
A10: その他費用 | B10: 5000
A11: 商談獲得単価 | B11: =B8/B4 -> 100
A12: 顧客獲得単価 | B12: =B8/B2 -> 666.66667
A15: 人件費 （単位：千円）
A16: 項目 | B16: 値
A17: 人件費 | B17: =500*2*12 -> 12000 | C17: 例） 500千円 × 2人 × 12ヶ月
A19: 費用合計 （単位：千円）
A20: 項目 | B20: 値
A21: 費用合計 | B21: =B17+B8 -> 32000
A22: 商談獲得単価 | B22: =B21/B4 -> 160
A23: 顧客獲得単価 | B23: =B21/B2 -> 1066.6667

Sheet 【サンプル数値入り】顧客獲得カレンダー
B1: 44562 | C1: 44593 | D1: 44621 | E1: 44652 | F1: 44682 | G1: 44713 | H1: 44743 | I1: 44774 | J1: 44805 | K1: 44835 | L1: 44866 | M1: 44896 | N1: 合計
A2: 受注件数 | B2: 2 | C2: 2 | D2: 2 | E2: 2 | F2: 2 | G2: 2 | H2: 3 | I2: 3 | J2: 3 | K2: 3 | L2: 3 | M2: 3 | N2: =SUM(B2:M2) -> 30
A3: 受注率 | B3: =B2/B4 -> 0.15384615 | C3: =C2/C4 -> 0.15384615 | D3: =D2/D4 -> 0.13333333 | E3: =E2/E4 -> 0.13333333 | F3: =F2/F4 -> 0.14285714 | G3: =G2/G4 -> 0.125 | H3: =H2/H4 -> 0.16666667 | I3: =I2/I4 -> 0.16666667 | ... N3: =N2/N4 -> 0.15
A4: 商談件数 | B4: 13 | C4: 13 | D4: 15 | E4: 15 | F4: 14 | G4: 16 | H4: 18 | I4: 18 | J4: 19 | K4: 19 | L4: 20 | M4: 20 | N4: =SUM(B4:M4) -> 200

Sheet 【サンプル数値入り】施策概要
A1: カテゴリ | B1: 項目 | C1: リード獲得 | D1: 商談化率 | E1: 商談数 | F1: 費用 | G1: 商談獲得単価 | H1: リード獲得単価 | J1: 単位：円
A2: 定常 | B2: 資料請求（広告） | C2: 80 | D2: 0.3 | E2: =C2*D2 -> 24 | F2: =C2*H2 -> 4000000 | G2: =F2/E2 -> 166666.67 | H2: 50000
A3: 定常 | B3: 資料請求(ウェブ） | C3: 80 | D3: 0.3 | E3: =C3*D3 -> 24 | F3: 0 | G3: =F3/E3 -> 0 | H3: =F3/C3 -> 0
A4: 定常 | B4: ホワイトペーパー（広告） | C4: 50 | D4: 0.1 | E4: =C4*D4 -> 5 | F4: =C4*H4 -> 500000 | G4: =F4/E4 -> 100000 | H4: 10000
A5: 定常 | B5: ホワイトペーパー (ウェブ） | C5: 60 | D5: 0.1 | E5: =C5*D5 -> 6 | F5: 0 | G5: =F5/E5 -> 0 | H5: =F5/C5 -> 0
A6: スポット | B6: 展示会 | C6: 708 | D6: 0.08 | E6: =C6*D6 -> 56.64 | F6: 8000000 | G6: =F6/E6 -> 141242.94 | H6: =F6/C6 -> 11299.435
A7: スポット | B7: その他イベント | C7: 200 | D7: 0.05 | E7: =C7*D7 -> 10 | F7: 2000000 | G7: =F7/E7 -> 200000 | H7: =F7/C7 -> 10000
A8: スポット | B8: 製品セミナー | C8: 100 | D8: 0.2 | E8: =C8*D8 -> 20 | F8: 0 | G8: =F8/E8 -> 0 | H8: =F8/C8 -> 0
A9: スポット | B9: 関心セミナー | C9: 540 | D9: 0.1 | E9: =C9*D9 -> 54 | F9: 0 | G9: =F9/E9 -> 0 | H9: =F9/C9 -> 0
B10: 販促費のみ合計 | C10: =SUM(C2:C9) -> 1818 | E10: =SUM(E2:E9) -> 199.64 | F10: =SUM(F2:F9) -> 14500000 | G10: =F10/E10 -> 72630.735 | H10: =F10/C10 -> 7975.7976
B11: その他販促費込 | F11: =【サンプル数値入り】顧客獲得概要!B10*1000+SUM(F2:F9) -> 19500000 | G11: =F11/E10 -> 97675.816 | H11: =F11/C10 -> 10726.073
D13: 目標 | E13: =【サンプル数値入り】顧客獲得概要!B4 -> 200 | F13: =【サンプル数値入り】顧客獲得概要!B8*1000 -> 20000000
D14: 差分 | E14: =E10-E13 -> -0.36 | F14: =F11-F13 -> -500000

Sheet 【サンプル数値入り】明細表
A1: 展示会合計 | B1: リード獲得数 | C1: =D12+D23+D34+D45 -> 708
B2: 商談化率 | C2: =C3/C1 -> 0.077966102
B3: 商談数 | C3: =F12+F23+F34+F45 -> 55.2
B4: 費用合計 | C4: =F14+F25+F36+F47 -> 8000000
B5: 商談獲得単価 | C5: =C4/C3 -> 144927.54
B6: リード獲得単価 | C6: =C4/C1 -> 11299.435
A8: 展示会名 | B8: 確度 | C8: 比率 | D8: 獲得件数 | E8: 商談化率 | F8: 商談数
A9: 展示会① | B9: ホット | C9: =D9/$D$12 -> 0.096045198 | D9: 17 | E9: 0.4 | F9: =D9*E9 -> 6.8
B10: ウォーム | C10: =D10/$D$12 -> 0.33898305 | D10: 60 | E10: 0.1 | F10: =D10*E10 -> 6
B11: コールド | C11: =D11/$D$12 -> 0.56497175 | D11: 100 | E11: 0.01 | F11: =D11*E11 -> 1
B12: 合計 | D12: =SUM(D9:D11) -> 177 | F12: =SUM(F9:F11) -> 13.8
E14: 費用合計 | F14: 2000000
E15: 商談獲得単価 | F15: =F14/F12 -> 144927.54
E16: リード獲得単価 | F16: =F14/D12 -> 11299.435
A19: 展示会名 | B19: 確度 | C19: 比率 | D19: 獲得件数 | E19: 商談化率 | F19: 商談数
A20: 展示会② | B20: ホット | C20: =D20/$D$12 -> 0.096045198 | D20: 17 | E20: 0.4 | F20: =D20*E20 -> 6.8
B21: ウォーム | C21: =D21/$D$12 -> 0.33898305 | D21: 60 | E21: 0.1 | F21: =D21*E21 -> 6
B22: コールド | C22: =D22/$D$12 -> 0.56497175 | D22: 100 | E22: 0.01 | F22: =D22*E22 -> 1
B23: 合計 | D23: =SUM(D20:D22) -> 177 | F23: =SUM(F20:F22) -> 13.8
E25: 費用合計 | F25: 2000000
E26: 商談獲得単価 | F26: =F25/F23 -> 144927.54
E27: リード獲得単価 | F27: =F25/D23 -> 11299.435
A30: 展示会名 | B30: 確度 | C30: 比率 | D30: 獲得件数 | E30: 商談化率 | F30: 商談数
A31: 展示会③ | B31: ホット | C31: =D31/$D$12 -> 0.096045198 | D31: 17 | E31: 0.4 | F31: =D31*E31 -> 6.8
B32: ウォーム | C32: =D32/$D$12 -> 0.33898305 | D32: 60 | E32: 0.1 | F32: =D32*E32 -> 6
B33: コールド | C33: =D33/$D$12 -> 0.56497175 | D33: 100 | E33: 0.01 | F33: =D33*E33 -> 1
B34: 合計 | D34: =SUM(D31:D33) -> 177 | F34: =SUM(F31:F33) -> 13.8
E36: 費用合計 | F36: 2000000
E37: 商談獲得単価 | F37: =F36/F34 -> 144927.54
E38: リード獲得単価 | F38: =F36/D34 -> 11299.435
A41: 展示会名 | B41: 確度 | C41: 比率 | D41: 獲得件数 | E41: 商談化率 | F41: 商談数
A42: 展示会④ | B42: ホット | C42: =D42/$D$12 -> 0.096045198 | D42: 17 | E42: 0.4 | F42: =D42*E42 -> 6.8
B43: ウォーム | C43: =D43/$D$12 -> 0.33898305 | D43: 60 | E43: 0.1 | F43: =D43*E43 -> 6
B44: コールド | C44: =D44/$D$12 -> 0.56497175 | D44: 100 | E44: 0.01 | F44: =D44*E44 -> 1
B45: 合計 | D45: =SUM(D42:D44) -> 177 | F45: =SUM(F42:F44) -> 13.8
E47: 費用合計 | F47: 2000000
E48: 商談獲得単価 | F48: =F47/F45 -> 144927.54
E49: リード獲得単価 | F49: =F47/D45 -> 11299.435

Sheet 【サンプル数値入り】施策カレンダー
B1: 44562 | C1: 44593 | D1: 44621 | E1: 44652 | F1: 44682 | G1: 44713 | H1: 44743 | I1: 44774 | J1: 44805 | K1: 44835 | L1: 44866 | M1: 44896 | N1: 合計
A2: 資料請求（広告） | B2: 1 | C2: 1 | D2: 1 | E2: 1 | F2: 1 | G2: 1 | H2: 2 | I2: 2 | J2: 2 | K2: 2 | L2: 2 | M2: 2 | N2: =SUM(B2:M2) -> 18
A3: 資料請求(ウェブ） | B3: 2 | C3: 2 | D3: 2 | E3: 2 | F3: 2 | G3: 2 | H3: 3 | I3: 3 | J3: 3 | K3: 3 | L3: 3 | M3: 3 | N3: =SUM(B3:M3) -> 30
A4: ホワイトペーパー（広告） | G4: 1 | H4: 1 | I4: 1 | J4: 1 | K4: 1 | L4: 1 | M4: 1 | N4: =SUM(B4:M4) -> 7
A5: ホワイトペーパー（ウェブ） | J5: 1 | K5: 1 | L5: 1 | M5: 1 | N5: =SUM(B5:M5) -> 4
A6: 展示会 | B6: 5 | C6: 5 | D6: 6 | E6: 6 | F6: 6 | G6: 6 | H6: 6 | I6: 6 | J6: 6 | K6: 6 | L6: 6 | M6: 6 | N6: =SUM(B6:M6) -> 70
A7: その他イベント | B7: 1 | C7: 1 | D7: 1 | E7: 1 | F7: 1 | G7: 1 | H7: 1 | I7: 1 | J7: 1 | K7: 1 | N7: =SUM(B7:M7) -> 10
A8: 製品セミナー | B8: 1 | C8: 1 | D8: 1 | E8: 1 | L8: 2 | M8: 2 | N8: =SUM(B8:M8) -> 8
A9: 関心セミナー | B9: 3 | C9: 3 | D9: 4 | E9: 4 | F9: 4 | G9: 5 | H9: 5 | I9: 5 | J9: 5 | K9: 5 | L9: 5 | M9: 5 | N9: =SUM(B9:M9) -> 53
A10: 合計 | B10: =SUM(B2:B9) -> 13 | C10: =SUM(C2:C9) -> 13 | D10: =SUM(D2:D9) -> 15 | E10: =SUM(E2:E9) -> 15 | F10: =SUM(F2:F9) -> 14 | G10: =SUM(G2:G9) -> 16 | H10: =SUM(H2:H9) -> 18 | I10: =SUM(I2:I9) -> 18 | ... M10: =SUM(M2:M9) -> 20 | N10: =SUM(B10:M10) -> 200
A12: 必要商談数 | B12: =【サンプル数値入り】顧客獲得カレンダー!B4 -> 13 | C12: =【サンプル数値入り】顧客獲得カレンダー!C4 -> 13 | D12: =【サンプル数値入り】顧客獲得カレンダー!D4 -> 15 | E12: =【サンプル数値入り】顧客獲得カレンダー!E4 -> 15 | F12: =【サンプル数値入り】顧客獲得カレンダー!F4 -> 14 | G12: =【サンプル数値入り】顧客獲得カレンダー!G4 -> 16 | H12: =【サンプル数値入り】顧客獲得カレンダー!H4 -> 18 | I12: =【サンプル数値入り】顧客獲得カレンダー!I4 -> 18 | ... M12: =【サンプル数値入り】顧客獲得カレンダー!M4 -> 20 | N12: =SUM(B12:M12) -> 200

Sheet 【サンプル数値入り】資料請求（広告）
A1: 項目 | B1: 44562 | C1: 44593 | D1: 44621 | E1: 44652 | F1: 44682 | G1: 44713 | H1: 44743 | I1: 44774 | J1: 44805 | K1: 44835 | L1: 44866 | M1: 44896 | N1: 合計
A2: リード獲得数 | B2: 6 | C2: 6 | D2: 6 | E2: 6 | F2: 7 | G2: 7 | H2: 7 | I2: 7 | J2: 7 | K2: 7 | L2: 7 | M2: 7 | N2: =SUM(B2:M2) -> 80
A3: CPA | B3: 50000 | C3: 50000 | D3: 50000 | E3: 50000 | F3: 50000 | G3: 50000 | H3: 50000 | I3: 50000 | J3: 50000 | K3: 50000 | L3: 50000 | M3: 50000
A4: 広告費 | B4: =B2*B3 -> 300000 | C4: =C2*C3 -> 300000 | D4: =D2*D3 -> 300000 | E4: =E2*E3 -> 300000 | F4: =F2*F3 -> 350000 | G4: =G2*G3 -> 350000 | H4: =H2*H3 -> 350000 | I4: =I2*I3 -> 350000 | ... M4: =M2*M3 -> 350000 | N4: =SUM(B4:M4) -> 4000000
A5: 商談化率 | B5: 0.3 | C5: 0.3 | D5: 0.3 | E5: 0.3 | F5: 0.3 | G5: 0.3 | H5: 0.3 | I5: 0.3 | J5: 0.3 | K5: 0.3 | L5: 0.3 | M5: 0.3 | O5: ※ ビュースルー除く
A6: 商談数 | B6: =B2*B5 -> 1.8 | C6: =C2*C5 -> 1.8 | D6: =D2*D5 -> 1.8 | E6: =E2*E5 -> 1.8 | F6: =F2*F5 -> 2.1 | G6: =G2*G5 -> 2.1 | H6: =H2*H5 -> 2.1 | I6: =I2*I5 -> 2.1 | ... M6: =M2*M5 -> 2.1 | N6: =SUM(B6:M6) -> 24 | O6: ※ ビュースルー除く

Sheet 【サンプル数値入り】資料請求（ウェブ）
A1: 項目 | B1: 44562 | C1: 44593 | D1: 44621 | E1: 44652 | F1: 44682 | G1: 44713 | H1: 44743 | I1: 44774 | J1: 44805 | K1: 44835 | L1: 44866 | M1: 44896 | N1: 合計
A2: 検索アクセス数 | B2: 800 | C2: 900 | D2: 900 | E2: 900 | F2: 900 | G2: 1000 | H2: 1000 | I2: 1000 | J2: 1000 | K2: 1000 | L2: 1000 | M2: 1000 | N2: =SUM(B2:M2) -> 11400
A3: CVR | B3: 0.007 | C3: 0.007 | D3: 0.007 | E3: 0.007 | F3: 0.007 | G3: 0.007 | H3: 0.007 | I3: 0.007 | J3: 0.007 | K3: 0.007 | L3: 0.007 | M3: 0.007
A4: リード獲得数 | B4: =B2*B3 -> 5.6 | C4: =C2*C3 -> 6.3 | D4: =D2*D3 -> 6.3 | E4: =E2*E3 -> 6.3 | F4: =F2*F3 -> 6.3 | G4: =G2*G3 -> 7 | H4: =H2*H3 -> 7 | I4: =I2*I3 -> 7 | ... M4: =M2*M3 -> 7 | N4: =SUM(B4:M4) -> 79.8
A5: 商談化率 | B5: 0.3 | C5: 0.3 | D5: 0.3 | E5: 0.3 | F5: 0.3 | G5: 0.3 | H5: 0.3 | I5: 0.3 | J5: 0.3 | K5: 0.3 | L5: 0.3 | M5: 0.3
A6: 商談数 | B6: =ROUND(B4*B5,0) -> 2 | C6: =ROUND(C4*C5,0) -> 2 | D6: =ROUND(D4*D5,0) -> 2 | E6: =ROUND(E4*E5,0) -> 2 | F6: =ROUND(F4*F5,0) -> 2 | G6: =ROUND(G4*G5,0) -> 2 | H6: =ROUND(H4*H5,0) -> 2 | I6: =ROUND(I4*I5,0) -> 2 | ... M6: =ROUND(M4*M5,0) -> 2 | N6: =SUM(B6:M6) -> 24

Sheet 【サンプル数値入り】製品ウェビナー例 
A1: 項目 | B1: 44562 | C1: 44593 | D1: 44621 | E1: 44652 | F1: 44682 | G1: 44713 | H1: 44743 | I1: 44774 | J1: 44805 | K1: 44835 | L1: 44866 | M1: 44896 | N1: 合計
A2: 申し込み | B2: 8 | C2: 8 | D2: 8 | E2: 8 | F2: 8 | G2: 8 | H2: 8 | I2: 8 | J2: 8 | K2: 8 | L2: 10 | M2: 10 | N2: =SUM(B2:M2) -> 100
A3: 視聴率 | B3: 0.7 | C3: 0.7 | D3: 0.7 | E3: 0.7 | F3: 0.7 | G3: 0.7 | H3: 0.7 | I3: 0.7 | J3: 0.7 | K3: 0.7 | L3: 0.7 | M3: 0.7
A4: 視聴数 | B4: =B2*B3 -> 5.6 | C4: =C2*C3 -> 5.6 | D4: =D2*D3 -> 5.6 | E4: =E2*E3 -> 5.6 | F4: =F2*F3 -> 5.6 | G4: =G2*G3 -> 5.6 | H4: =H2*H3 -> 5.6 | I4: =I2*I3 -> 5.6 | ... M4: =M2*M3 -> 7 | N4: =SUM(B4:M4) -> 70
A5: ターゲット率 | B5: 0.8 | C5: 0.8 | D5: 0.8 | E5: 0.8 | F5: 0.8 | G5: 0.8 | H5: 0.8 | I5: 0.8 | J5: 0.8 | K5: 0.8 | L5: 0.8 | M5: 0.8
A6: ターゲット数 | B6: =B5*B2 -> 6.4 | C6: =C5*C2 -> 6.4 | D6: =D5*D2 -> 6.4 | E6: =E5*E2 -> 6.4 | F6: =F5*F2 -> 6.4 | G6: =G5*G2 -> 6.4 | H6: =H5*H2 -> 6.4 | I6: =I5*I2 -> 6.4 | ... M6: =M5*M2 -> 8 | N6: =SUM(B6:M6) -> 80
A7: 商談化率 | B7: 0.2 | C7: 0.2 | D7: 0.2 | E7: 0.2 | F7: 0.3 | G7: 0.3 | H7: 0.3 | I7: 0.3 | J7: 0.3 | K7: 0.3 | L7: 0.3 | M7: 0.3
A8: 商談数 | B8: =ROUND(B6*B7,0) -> 1 | C8: =ROUND(C6*C7,0) -> 1 | D8: =ROUND(D6*D7,0) -> 1 | E8: =ROUND(E6*E7,0) -> 1 | F8: =ROUND(F6*F7,0) -> 2 | G8: =ROUND(G6*G7,0) -> 2 | H8: =ROUND(H6*H7,0) -> 2 | I8: =ROUND(I6*I7,0) -> 2 | ... M8: =ROUND(M6*M7,0) -> 2 | N8: =SUM(B8:M8) -> 20

Sheet 【サンプル数値入り】関心ウェビナー例 
A1: 項目 | B1: 44562 | C1: 44593 | D1: 44621 | E1: 44652 | F1: 44682 | G1: 44713 | H1: 44743 | I1: 44774 | J1: 44805 | K1: 44835 | L1: 44866 | M1: 44896 | N1: 合計
A2: 申し込み | B2: 30 | C2: 30 | D2: 30 | E2: 30 | F2: 50 | G2: 50 | H2: 50 | I2: 50 | J2: 50 | K2: 50 | L2: 60 | M2: 60 | N2: =SUM(B2:M2) -> 540
A3: 視聴率 | B3: 0.7 | C3: 0.7 | D3: 0.7 | E3: 0.7 | F3: 0.7 | G3: 0.7 | H3: 0.7 | I3: 0.7 | J3: 0.7 | K3: 0.7 | L3: 0.7 | M3: 0.7
A4: 視聴数 | B4: =B2*B3 -> 21 | C4: =C2*C3 -> 21 | D4: =D2*D3 -> 21 | E4: =E2*E3 -> 21 | F4: =F2*F3 -> 35 | G4: =G2*G3 -> 35 | H4: =H2*H3 -> 35 | I4: =I2*I3 -> 35 | ... M4: =M2*M3 -> 42 | N4: =SUM(B4:M4) -> 378
A5: ターゲット率 | B5: 0.8 | C5: 0.8 | D5: 0.8 | E5: 0.8 | F5: 0.8 | G5: 0.8 | H5: 0.8 | I5: 0.8 | J5: 0.8 | K5: 0.8 | L5: 0.8 | M5: 0.8
A6: ターゲット数 | B6: =B5*B2 -> 24 | C6: =C5*C2 -> 24 | D6: =D5*D2 -> 24 | E6: =E5*E2 -> 24 | F6: =F5*F2 -> 40 | G6: =G5*G2 -> 40 | H6: =H5*H2 -> 40 | I6: =I5*I2 -> 40 | ... M6: =M5*M2 -> 48 | N6: =SUM(B6:M6) -> 432
A7: 商談化率 | B7: 0.1 | C7: 0.1 | D7: 0.1 | E7: 0.1 | F7: 0.1 | G7: 0.1 | H7: 0.15 | I7: 0.15 | J7: 0.15 | K7: 0.15 | L7: 0.15 | M7: 0.15
A8: 商談数 | B8: =ROUND(B6*B7,0) -> 2 | C8: =ROUND(C6*C7,0) -> 2 | D8: =ROUND(D6*D7,0) -> 2 | E8: =ROUND(E6*E7,0) -> 2 | F8: =ROUND(F6*F7,0) -> 4 | G8: =ROUND(G6*G7,0) -> 4 | H8: =ROUND(H6*H7,0) -> 6 | I8: =ROUND(I6*I7,0) -> 6 | ... M8: =ROUND(M6*M7,0) -> 7 | N8: =SUM(B8:M8) -> 54
